BEGIN:VCALENDAR
VERSION:2.0
CALSCALE:GREGORIAN
PRODID:-//Diputació de Barcelona//DibaCMS//EN
BEGIN:VEVENT
UID:4081
DTSTAMP:20260421T141234
DTSTART:20260906T100000
DTEND:20260906T120000
SUMMARY:Passejada Bio-Garraf a Canyelles
LOCATION:
METHOD:PUBLISH
X-WR-CALNAME:ccgarraf@ccgarraf.cat
X-WR-TIMEZONE:Europe/Madrid
DESCRIPTION:El bosc que refresca.

URI:https://www.ccgarraf.cat/actualitat/agenda/passejada-bio-garraf-a-canyelles.html
CLASS:PUBLIC
END:VEVENT
END:VCALENDAR
