BEGIN:VCALENDAR
VERSION:2.0
CALSCALE:GREGORIAN
PRODID:-//Diputació de Barcelona//DibaCMS//EN
BEGIN:VEVENT
UID:4080
DTSTAMP:20260421T140851
DTSTART:20260524T100000
DTEND:20260524T120000
SUMMARY:Passejada Bio-Garraf a Sitges
LOCATION:
METHOD:PUBLISH
X-WR-CALNAME:ccgarraf@ccgarraf.cat
X-WR-TIMEZONE:Europe/Madrid
DESCRIPTION:Camins de mar i pedra.

URI:https://www.ccgarraf.cat/actualitat/agenda/passejada-bio-garraf-a-sitges.html
CLASS:PUBLIC
END:VEVENT
END:VCALENDAR
