BEGIN:VCALENDAR
VERSION:2.0
CALSCALE:GREGORIAN
PRODID:-//Diputació de Barcelona//DibaCMS//EN
BEGIN:VEVENT
UID:4078
DTSTAMP:20260419T154630
DTSTART:20260322T110000
DTEND:20260322T120000
SUMMARY:Taller de cistelleria
LOCATION:
METHOD:PUBLISH
X-WR-CALNAME:ccgarraf@ccgarraf.cat
X-WR-TIMEZONE:Europe/Madrid
DESCRIPTION:Activitat per a adults, dins de la matinal "Flors, violes i llibres. Desperta Primavera a la Masia d'en Cabanyes". Places exhaurides.

URI:https://www.ccgarraf.cat/actualitat/agenda/taller-de-cistelleria.html
CLASS:PUBLIC
END:VEVENT
END:VCALENDAR
