BEGIN:VCALENDAR
VERSION:2.0
CALSCALE:GREGORIAN
PRODID:-//Diputació de Barcelona//DibaCMS//EN
BEGIN:VEVENT
UID:4061
DTSTAMP:20260419T153713
DTSTART:20260329T120000
DTEND:20260329T130000
SUMMARY:Goya, el despertar de la consciència
LOCATION:
METHOD:PUBLISH
X-WR-CALNAME:ccgarraf@ccgarraf.cat
X-WR-TIMEZONE:Europe/Madrid
DESCRIPTION:Per descobrir Els Disparates de Goya de la Masia d’en Cabanyes. A propòsit del naixement de Francisco de Goya a Fuentetodos el març de 1746.

URI:https://www.ccgarraf.cat/actualitat/agenda/4061-goya-el-despertar-de-la-consciencia.html
CLASS:PUBLIC
END:VEVENT
END:VCALENDAR
