BEGIN:VCALENDAR
VERSION:2.0
CALSCALE:GREGORIAN
PRODID:-//Diputació de Barcelona//DibaCMS//EN
BEGIN:VEVENT
UID:4057
DTSTAMP:20260419T154214
DTSTART:20260315T120000
DTEND:20260315T130000
SUMMARY:La Masia d'en Cabanyes en femení
LOCATION:
METHOD:PUBLISH
X-WR-CALNAME:ccgarraf@ccgarraf.cat
X-WR-TIMEZONE:Europe/Madrid
DESCRIPTION:Visita temàtica amb motiu del Dia Internacional de les Dones

URI:https://www.ccgarraf.cat/actualitat/agenda/la-masia-den-cabanyes-en-femeni.html
CLASS:PUBLIC
END:VEVENT
END:VCALENDAR
