BEGIN:VCALENDAR
VERSION:2.0
CALSCALE:GREGORIAN
PRODID:-//Diputació de Barcelona//DibaCMS//EN
BEGIN:VEVENT
UID:4043
DTSTAMP:20260426T031600
DTSTART:20260208T110000
DTEND:20260208T130000
SUMMARY:Objectes que expliquen històries
LOCATION:
METHOD:PUBLISH
X-WR-CALNAME:ccgarraf@ccgarraf.cat
X-WR-TIMEZONE:Europe/Madrid
DESCRIPTION:Taller de pintura sobre teixit (bossa tote) a càrrec de la il·lustradora Laura Borràs i visita al CIRMAC.

URI:https://www.ccgarraf.cat/actualitat/agenda/objectes-que-expliquen-histories.html
CLASS:PUBLIC
END:VEVENT
END:VCALENDAR
