BEGIN:VCALENDAR
VERSION:2.0
CALSCALE:GREGORIAN
PRODID:-//Diputació de Barcelona//DibaCMS//EN
BEGIN:VEVENT
UID:3782
DTSTAMP:20260422T115535
DTSTART:20241123T000000
DTEND:20241123T000000
SUMMARY:ELLES. Parlen les dones de la Masia d'en Cabanyes
LOCATION:
METHOD:PUBLISH
X-WR-CALNAME:ccgarraf@ccgarraf.cat
X-WR-TIMEZONE:Europe/Madrid
DESCRIPTION:Un viatge a la seva història oblidada, amb motiu del Dia Internacional per a l'eliminació de la violència envers les dones

URI:https://www.ccgarraf.cat/actualitat/agenda/3782-elles-parlen-les-dones-de-la-masia-den-cabanyes.html
CLASS:PUBLIC
END:VEVENT
END:VCALENDAR
