BEGIN:VCALENDAR
VERSION:2.0
CALSCALE:GREGORIAN
PRODID:-//Diputació de Barcelona//DibaCMS//EN
BEGIN:VEVENT
UID:3513
DTSTAMP:20260425T130637
DTSTART:20230928T180000
DTEND:20230928T200000
SUMMARY:Sessió informativa per a persones nouvingudes
LOCATION:Joan Roig i Piera, 3-5 (situat davant el Castell) 08800 Cubelles
METHOD:PUBLISH
X-WR-CALNAME:ccgarraf@ccgarraf.cat
X-WR-TIMEZONE:Europe/Madrid
DESCRIPTION:Arrelament social, laboral, formació i familiar. 

URI:https://www.ccgarraf.cat/actualitat/agenda/3513-sessio-informativa-per-a-persones-nouvingudes.html
CLASS:PUBLIC
END:VEVENT
END:VCALENDAR
